Package: tweeDEseqCountData Version: 1.46.0 Command: /home/biocbuild/bbs-3.21-bioc/R/bin/R CMD INSTALL tweeDEseqCountData StartedAt: 2025-10-09 10:56:25 -0400 (Thu, 09 Oct 2025) EndedAt: 2025-10-09 10:56:28 -0400 (Thu, 09 Oct 2025) EllapsedTime: 2.8 seconds RetCode: 0 Status: OK