Package: tuberculosis Version: 1.16.0 Command: /home/biocbuild/bbs-3.22-bioc/R/bin/R CMD INSTALL tuberculosis StartedAt: 2025-11-06 10:58:56 -0500 (Thu, 06 Nov 2025) EndedAt: 2025-11-06 10:59:22 -0500 (Thu, 06 Nov 2025) EllapsedTime: 26.1 seconds RetCode: 0 Status: OK