Package: tuberculosis Version: 1.16.0 Command: /home/biocbuild/bbs-3.22-bioc/R/bin/R CMD build --keep-empty-dirs --no-resave-data tuberculosis StartedAt: 2025-11-06 11:47:15 -0500 (Thu, 06 Nov 2025) EndedAt: 2025-11-06 11:48:27 -0500 (Thu, 06 Nov 2025) EllapsedTime: 71.6 seconds RetCode: 0 Status: OK PackageFile: tuberculosis_1.16.0.tar.gz PackageFileSize: 362.7 KiB