Package: topdownrdata Version: 1.32.0 Command: /home/biocbuild/bbs-3.22-bioc/R/bin/R CMD INSTALL topdownrdata StartedAt: 2025-11-06 11:00:27 -0500 (Thu, 06 Nov 2025) EndedAt: 2025-11-06 11:01:05 -0500 (Thu, 06 Nov 2025) EllapsedTime: 38.1 seconds RetCode: 0 Status: OK