Package: tinesath1probe Version: 1.48.0 Command: /home/biocbuild/bbs-3.22-bioc/R/bin/R CMD INSTALL tinesath1probe StartedAt: 2025-11-06 10:56:39 -0500 (Thu, 06 Nov 2025) EndedAt: 2025-11-06 10:56:47 -0500 (Thu, 06 Nov 2025) EllapsedTime: 8.2 seconds RetCode: 0 Status: OK