Package: tartare Version: 1.24.0 Command: /home/biocbuild/bbs-3.22-bioc/R/bin/R CMD build --keep-empty-dirs --no-resave-data tartare StartedAt: 2025-11-27 11:47:08 -0500 (Thu, 27 Nov 2025) EndedAt: 2025-11-27 11:47:29 -0500 (Thu, 27 Nov 2025) EllapsedTime: 21.3 seconds RetCode: 0 Status: OK PackageFile: tartare_1.24.0.tar.gz PackageFileSize: 307.4 KiB