Package: systemPipeRdata Version: 2.12.2 Command: /home/biocbuild/bbs-3.21-bioc/R/bin/R CMD INSTALL systemPipeRdata StartedAt: 2025-09-30 10:56:43 -0400 (Tue, 30 Sep 2025) EndedAt: 2025-09-30 10:56:53 -0400 (Tue, 30 Sep 2025) EllapsedTime: 9.5 seconds RetCode: 0 Status: OK