Package: stemHypoxia Version: 1.46.0 Command: /home/biocbuild/bbs-3.22-bioc/R/bin/R CMD INSTALL stemHypoxia StartedAt: 2025-11-06 10:55:50 -0500 (Thu, 06 Nov 2025) EndedAt: 2025-11-06 10:55:52 -0500 (Thu, 06 Nov 2025) EllapsedTime: 1.6 seconds RetCode: 0 Status: OK