Package: stemHypoxia Version: 1.46.0 Command: /home/biocbuild/bbs-3.22-bioc/R/bin/R CMD build --keep-empty-dirs --no-resave-data stemHypoxia StartedAt: 2025-11-06 11:43:45 -0500 (Thu, 06 Nov 2025) EndedAt: 2025-11-06 11:43:46 -0500 (Thu, 06 Nov 2025) EllapsedTime: 1.6 seconds RetCode: 0 Status: OK PackageFile: stemHypoxia_1.46.0.tar.gz PackageFileSize: 2.773 MiB