Package: spatialLIBD Version: 1.22.0 Command: /home/biocbuild/bbs-3.22-bioc/R/bin/R CMD check --install=check:spatialLIBD.install-out.txt --library=/home/biocbuild/bbs-3.22-bioc/R/site-library --timings spatialLIBD_1.22.0.tar.gz StartedAt: 2025-11-06 13:04:31 -0500 (Thu, 06 Nov 2025) EndedAt: 2025-11-06 13:24:07 -0500 (Thu, 06 Nov 2025) EllapsedTime: 1176.2 seconds RetCode: 0 Status: OK CheckDir: spatialLIBD.Rcheck Warnings: 0