Package: spatialDmelxsim Version: 1.16.0 Command: /home/biocbuild/bbs-3.22-bioc/R/bin/R CMD INSTALL spatialDmelxsim StartedAt: 2025-11-06 11:01:08 -0500 (Thu, 06 Nov 2025) EndedAt: 2025-11-06 11:01:34 -0500 (Thu, 06 Nov 2025) EllapsedTime: 26.3 seconds RetCode: 0 Status: OK