Package: smokingMouse Version: 1.8.0 Command: /home/biocbuild/bbs-3.22-bioc/R/bin/R CMD INSTALL smokingMouse StartedAt: 2025-11-06 10:55:14 -0500 (Thu, 06 Nov 2025) EndedAt: 2025-11-06 10:55:15 -0500 (Thu, 06 Nov 2025) EllapsedTime: 1.2 seconds RetCode: 0 Status: OK