Package: simpIntLists Version: 1.46.0 Command: /home/biocbuild/bbs-3.22-bioc/R/bin/R CMD INSTALL simpIntLists StartedAt: 2025-11-06 10:55:33 -0500 (Thu, 06 Nov 2025) EndedAt: 2025-11-06 10:55:36 -0500 (Thu, 06 Nov 2025) EllapsedTime: 3.5 seconds RetCode: 0 Status: OK