Package: simpIntLists Version: 1.46.0 Command: /home/biocbuild/bbs-3.22-bioc/R/bin/R CMD build --keep-empty-dirs --no-resave-data simpIntLists StartedAt: 2025-11-06 11:42:55 -0500 (Thu, 06 Nov 2025) EndedAt: 2025-11-06 11:43:04 -0500 (Thu, 06 Nov 2025) EllapsedTime: 8.7 seconds RetCode: 0 Status: OK PackageFile: simpIntLists_1.46.0.tar.gz PackageFileSize: 4.366 MiB