Package: simpIntLists Version: 1.44.0 Command: /home/biocbuild/bbs-3.21-bioc/R/bin/R CMD INSTALL simpIntLists StartedAt: 2025-10-09 10:55:30 -0400 (Thu, 09 Oct 2025) EndedAt: 2025-10-09 10:55:33 -0400 (Thu, 09 Oct 2025) EllapsedTime: 2.7 seconds RetCode: 0 Status: OK