Package: signatureSearchData Version: 1.24.0 Command: /home/biocbuild/bbs-3.22-bioc/R/bin/R CMD build --keep-empty-dirs --no-resave-data signatureSearchData StartedAt: 2025-11-06 11:42:44 -0500 (Thu, 06 Nov 2025) EndedAt: 2025-11-06 11:43:00 -0500 (Thu, 06 Nov 2025) EllapsedTime: 16.0 seconds RetCode: 0 Status: OK PackageFile: signatureSearchData_1.24.0.tar.gz PackageFileSize: 656.8 KiB