Package: signatureSearchData Version: 1.22.0 Command: /home/biocbuild/bbs-3.21-bioc/R/bin/R CMD INSTALL signatureSearchData StartedAt: 2025-10-02 10:57:07 -0400 (Thu, 02 Oct 2025) EndedAt: 2025-10-02 10:57:12 -0400 (Thu, 02 Oct 2025) EllapsedTime: 5.3 seconds RetCode: 0 Status: OK