Package: signatureSearchData Version: 1.22.0 Command: /home/biocbuild/bbs-3.21-bioc/R/bin/R CMD build --keep-empty-dirs --no-resave-data signatureSearchData StartedAt: 2025-10-02 11:40:15 -0400 (Thu, 02 Oct 2025) EndedAt: 2025-10-02 11:40:30 -0400 (Thu, 02 Oct 2025) EllapsedTime: 14.8 seconds RetCode: 0 Status: OK PackageFile: signatureSearchData_1.22.0.tar.gz PackageFileSize: 656.9 KiB