Package: shinyMethylData Version: 1.30.0 Maintainer: Jean-Philippe Fortin MaintainerEmail: jfortin at jhsph.edu git_url: https://git.bioconductor.org/packages/shinyMethylData git_branch: RELEASE_3_22 git_last_commit: fa68252 git_last_commit_date: 2025-10-29 09:55:19 -0500 (Wed, 29 Oct 2025)