Package: seventyGeneData Version: 1.46.0 Command: /home/biocbuild/bbs-3.22-bioc/R/bin/R CMD build --keep-empty-dirs --no-resave-data seventyGeneData StartedAt: 2025-11-25 11:42:23 -0500 (Tue, 25 Nov 2025) EndedAt: 2025-11-25 11:42:41 -0500 (Tue, 25 Nov 2025) EllapsedTime: 17.2 seconds RetCode: 0 Status: OK PackageFile: seventyGeneData_1.46.0.tar.gz PackageFileSize: 145.1 MiB