Package: seqc Version: 1.44.0 Command: /home/biocbuild/bbs-3.22-bioc/R/bin/R CMD INSTALL seqc StartedAt: 2025-11-06 10:56:03 -0500 (Thu, 06 Nov 2025) EndedAt: 2025-11-06 10:57:55 -0500 (Thu, 06 Nov 2025) EllapsedTime: 111.2 seconds RetCode: 0 Status: OK