Package: seqc Version: 1.44.0 Command: /home/biocbuild/bbs-3.22-bioc/R/bin/R CMD build --keep-empty-dirs --no-resave-data seqc StartedAt: 2025-11-06 11:41:52 -0500 (Thu, 06 Nov 2025) EndedAt: 2025-11-06 11:43:59 -0500 (Thu, 06 Nov 2025) EllapsedTime: 127.2 seconds RetCode: 0 Status: OK PackageFile: seqc_1.44.0.tar.gz PackageFileSize: 179.1 MiB