Package: seqc Version: 1.44.0 Maintainer: Yang Liao and Wei Shi MaintainerEmail: Wei.Shi at onjcri.org.au git_url: https://git.bioconductor.org/packages/seqc git_branch: RELEASE_3_22 git_last_commit: e0fa160 git_last_commit_date: 2025-10-29 09:55:54 -0400 (Wed, 29 Oct 2025)