Package: scpdata Version: 1.18.0 Command: /home/biocbuild/bbs-3.22-bioc/R/bin/R CMD INSTALL scpdata StartedAt: 2025-11-06 10:59:23 -0500 (Thu, 06 Nov 2025) EndedAt: 2025-11-06 10:59:55 -0500 (Thu, 06 Nov 2025) EllapsedTime: 31.5 seconds RetCode: 0 Status: OK