Package: scpdata Version: 1.18.0 Maintainer: Christophe Vanderaa MaintainerEmail: christophe.vanderaa at uclouvain.be git_url: https://git.bioconductor.org/packages/scpdata git_branch: RELEASE_3_22 git_last_commit: 03bcf31 git_last_commit_date: 2025-10-29 10:03:09 -0500 (Wed, 29 Oct 2025)