Package: scaeData Version: 1.6.0 Command: /home/biocbuild/bbs-3.22-bioc/R/bin/R CMD build --keep-empty-dirs --no-resave-data scaeData StartedAt: 2025-11-06 11:40:30 -0500 (Thu, 06 Nov 2025) EndedAt: 2025-11-06 11:43:28 -0500 (Thu, 06 Nov 2025) EllapsedTime: 178.5 seconds RetCode: 0 Status: OK PackageFile: scaeData_1.6.0.tar.gz PackageFileSize: 300.9 KiB