Package: scaeData Version: 1.4.0 Command: /home/biocbuild/bbs-3.21-bioc/R/bin/R CMD INSTALL scaeData StartedAt: 2025-10-02 10:57:25 -0400 (Thu, 02 Oct 2025) EndedAt: 2025-10-02 10:57:39 -0400 (Thu, 02 Oct 2025) EllapsedTime: 13.8 seconds RetCode: 0 Status: OK