Package: scTHI.data Version: 1.22.0 Command: /home/biocbuild/bbs-3.22-bioc/R/bin/R CMD build --keep-empty-dirs --no-resave-data scTHI.data StartedAt: 2025-11-13 11:42:28 -0500 (Thu, 13 Nov 2025) EndedAt: 2025-11-13 11:42:36 -0500 (Thu, 13 Nov 2025) EllapsedTime: 8.0 seconds RetCode: 0 Status: OK PackageFile: scTHI.data_1.22.0.tar.gz PackageFileSize: 24.17 MiB