Package: scRNAseq Version: 2.24.0 Command: /home/biocbuild/bbs-3.22-bioc/R/bin/R CMD INSTALL scRNAseq StartedAt: 2025-11-06 11:00:49 -0500 (Thu, 06 Nov 2025) EndedAt: 2025-11-06 11:01:31 -0500 (Thu, 06 Nov 2025) EllapsedTime: 41.7 seconds RetCode: 0 Status: OK