Package: scATAC.Explorer Version: 1.14.1 Command: /home/biocbuild/bbs-3.21-bioc/R/bin/R CMD INSTALL scATAC.Explorer StartedAt: 2025-10-07 11:04:03 -0400 (Tue, 07 Oct 2025) EndedAt: 2025-10-07 11:04:29 -0400 (Tue, 07 Oct 2025) EllapsedTime: 25.8 seconds RetCode: 0 Status: OK