Package: scATAC.Explorer Version: 1.14.1 Command: /home/biocbuild/bbs-3.21-bioc/R/bin/R CMD build --keep-empty-dirs --no-resave-data scATAC.Explorer StartedAt: 2025-10-09 11:38:13 -0400 (Thu, 09 Oct 2025) EndedAt: 2025-10-09 11:38:53 -0400 (Thu, 09 Oct 2025) EllapsedTime: 39.8 seconds RetCode: 0 Status: OK PackageFile: scATAC.Explorer_1.14.1.tar.gz PackageFileSize: 247.8 KiB