Package: scATAC.Explorer Version: 1.14.1 Maintainer: Jonathan Wang MaintainerEmail: jwan2633 at uwo.ca git_url: https://git.bioconductor.org/packages/scATAC.Explorer git_branch: RELEASE_3_21 git_last_commit: 859f1e7 git_last_commit_date: 2025-09-23 10:21:59 -0400 (Tue, 23 Sep 2025)