Package: sampleClassifierData Version: 1.34.0 Command: /home/biocbuild/bbs-3.22-bioc/R/bin/R CMD INSTALL sampleClassifierData StartedAt: 2025-11-06 10:58:53 -0500 (Thu, 06 Nov 2025) EndedAt: 2025-11-06 10:59:06 -0500 (Thu, 06 Nov 2025) EllapsedTime: 12.7 seconds RetCode: 0 Status: OK