Package: sampleClassifierData Version: 1.34.0 Command: /home/biocbuild/bbs-3.22-bioc/R/bin/R CMD build --keep-empty-dirs --no-resave-data sampleClassifierData StartedAt: 2025-11-06 11:40:20 -0500 (Thu, 06 Nov 2025) EndedAt: 2025-11-06 11:40:49 -0500 (Thu, 06 Nov 2025) EllapsedTime: 28.6 seconds RetCode: 0 Status: OK PackageFile: sampleClassifierData_1.34.0.tar.gz PackageFileSize: 15.51 MiB