Package: rheumaticConditionWOLLBOLD Version: 1.48.0 Maintainer: Alejandro Quiroz-Zarate MaintainerEmail: aquiroz at hsph.harvard.edu git_url: https://git.bioconductor.org/packages/rheumaticConditionWOLLBOLD git_branch: RELEASE_3_22 git_last_commit: d33f4c1 git_last_commit_date: 2025-10-29 09:33:00 -0500 (Wed, 29 Oct 2025)