Package: raerdata Version: 1.8.0 Command: /home/biocbuild/bbs-3.22-bioc/R/bin/R CMD INSTALL raerdata StartedAt: 2025-11-06 11:00:43 -0500 (Thu, 06 Nov 2025) EndedAt: 2025-11-06 11:01:20 -0500 (Thu, 06 Nov 2025) EllapsedTime: 36.9 seconds RetCode: 0 Status: OK