Package: rRDPData Version: 1.30.0 Command: /home/biocbuild/bbs-3.22-bioc/R/bin/R CMD build --keep-empty-dirs --no-resave-data rRDPData StartedAt: 2025-11-06 11:39:02 -0500 (Thu, 06 Nov 2025) EndedAt: 2025-11-06 11:41:38 -0500 (Thu, 06 Nov 2025) EllapsedTime: 155.4 seconds RetCode: 0 Status: OK PackageFile: rRDPData_1.30.0.tar.gz PackageFileSize: 154.8 MiB