Package: qPLEXdata Version: 1.28.0 Command: /home/biocbuild/bbs-3.22-bioc/R/bin/R CMD INSTALL qPLEXdata StartedAt: 2025-11-06 11:01:50 -0500 (Thu, 06 Nov 2025) EndedAt: 2025-11-06 11:02:30 -0500 (Thu, 06 Nov 2025) EllapsedTime: 39.6 seconds RetCode: 0 Status: OK