Package: pumadata Version: 2.46.0 Command: /home/biocbuild/bbs-3.22-bioc/R/bin/R CMD INSTALL pumadata StartedAt: 2025-11-06 11:02:30 -0500 (Thu, 06 Nov 2025) EndedAt: 2025-11-06 11:02:59 -0500 (Thu, 06 Nov 2025) EllapsedTime: 29.7 seconds RetCode: 0 Status: OK