Package: pumadata Version: 2.46.0 Command: /home/biocbuild/bbs-3.22-bioc/R/bin/R CMD build --keep-empty-dirs --no-resave-data pumadata StartedAt: 2025-11-06 11:36:41 -0500 (Thu, 06 Nov 2025) EndedAt: 2025-11-06 11:37:25 -0500 (Thu, 06 Nov 2025) EllapsedTime: 43.7 seconds RetCode: 0 Status: OK PackageFile: pumadata_2.46.0.tar.gz PackageFileSize: 101.7 MiB