Package: prostateCancerTaylor Version: 1.38.0 Command: /home/biocbuild/bbs-3.22-bioc/R/bin/R CMD INSTALL prostateCancerTaylor StartedAt: 2025-11-06 10:56:02 -0500 (Thu, 06 Nov 2025) EndedAt: 2025-11-06 10:56:12 -0500 (Thu, 06 Nov 2025) EllapsedTime: 9.7 seconds RetCode: 0 Status: OK