Package: prostateCancerTaylor Version: 1.38.0 Maintainer: Mark Dunning MaintainerEmail: mark.dunning at cruk.cam.ac.uk git_url: https://git.bioconductor.org/packages/prostateCancerTaylor git_branch: RELEASE_3_22 git_last_commit: 4302fca git_last_commit_date: 2025-10-29 09:57:56 -0500 (Wed, 29 Oct 2025)