Package: prostateCancerGrasso Version: 1.38.0 Command: /home/biocbuild/bbs-3.22-bioc/R/bin/R CMD build --keep-empty-dirs --no-resave-data prostateCancerGrasso StartedAt: 2025-11-06 11:36:04 -0500 (Thu, 06 Nov 2025) EndedAt: 2025-11-06 11:36:16 -0500 (Thu, 06 Nov 2025) EllapsedTime: 12.0 seconds RetCode: 0 Status: OK PackageFile: prostateCancerGrasso_1.38.0.tar.gz PackageFileSize: 25.25 MiB