Package: preciseTADhub Version: 1.18.0 Command: /home/biocbuild/bbs-3.22-bioc/R/bin/R CMD check --install=check:preciseTADhub.install-out.txt --library=/home/biocbuild/bbs-3.22-bioc/R/site-library --timings preciseTADhub_1.18.0.tar.gz StartedAt: 2025-11-13 12:56:39 -0500 (Thu, 13 Nov 2025) EndedAt: 2025-11-13 13:00:05 -0500 (Thu, 13 Nov 2025) EllapsedTime: 205.4 seconds RetCode: 0 Status: OK CheckDir: preciseTADhub.Rcheck Warnings: 0