Package: preciseTADhub Version: 1.18.0 Command: /home/biocbuild/bbs-3.22-bioc/R/bin/R CMD build --keep-empty-dirs --no-resave-data preciseTADhub StartedAt: 2025-11-06 11:35:38 -0500 (Thu, 06 Nov 2025) EndedAt: 2025-11-06 11:37:11 -0500 (Thu, 06 Nov 2025) EllapsedTime: 93.1 seconds RetCode: 0 Status: OK PackageFile: preciseTADhub_1.18.0.tar.gz PackageFileSize: 228.5 KiB