Package: pepDat Version: 1.30.0 Command: /home/biocbuild/bbs-3.22-bioc/R/bin/R CMD INSTALL pepDat StartedAt: 2025-11-06 11:00:08 -0500 (Thu, 06 Nov 2025) EndedAt: 2025-11-06 11:00:14 -0500 (Thu, 06 Nov 2025) EllapsedTime: 6.7 seconds RetCode: 0 Status: OK