Package: pepDat Version: 1.28.0 Command: /home/biocbuild/bbs-3.21-bioc/R/bin/R CMD INSTALL pepDat StartedAt: 2025-10-02 11:01:27 -0400 (Thu, 02 Oct 2025) EndedAt: 2025-10-02 11:01:35 -0400 (Thu, 02 Oct 2025) EllapsedTime: 8.0 seconds RetCode: 0 Status: OK