Package: pepDat Version: 1.28.0 Command: /home/biocbuild/bbs-3.21-bioc/R/bin/R CMD build --keep-empty-dirs --no-resave-data pepDat StartedAt: 2025-09-30 11:32:50 -0400 (Tue, 30 Sep 2025) EndedAt: 2025-09-30 11:33:05 -0400 (Tue, 30 Sep 2025) EllapsedTime: 15.6 seconds RetCode: 0 Status: OK PackageFile: pepDat_1.28.0.tar.gz PackageFileSize: 2.66 MiB