Package: pd.atdschip.tiling Version: 0.48.0 Command: /home/biocbuild/bbs-3.22-bioc/R/bin/R CMD INSTALL pd.atdschip.tiling StartedAt: 2025-11-06 10:59:55 -0500 (Thu, 06 Nov 2025) EndedAt: 2025-11-06 11:00:20 -0500 (Thu, 06 Nov 2025) EllapsedTime: 24.3 seconds RetCode: 0 Status: OK