Package: pd.atdschip.tiling Version: 0.48.0 Command: /home/biocbuild/bbs-3.22-bioc/R/bin/R CMD build --keep-empty-dirs --no-resave-data pd.atdschip.tiling StartedAt: 2025-11-06 11:35:02 -0500 (Thu, 06 Nov 2025) EndedAt: 2025-11-06 11:37:36 -0500 (Thu, 06 Nov 2025) EllapsedTime: 153.9 seconds RetCode: 0 Status: OK PackageFile: pd.atdschip.tiling_0.48.0.tar.gz PackageFileSize: 134.3 MiB